BEGIN:VCALENDAR
VERSION:2.0
PRODID:GIGPRESS 2.0 WORDPRESS PLUGIN
CALSCALE:GREGORIAN
X-WR-TIMEZONE:Etc/GMT
METHOD:PUBLISH
BEGIN:VTIMEZONE
TZID:GMT
BEGIN:STANDARD
DTSTART:20071028T010000
TZOFFSETTO:+0000
TZOFFSETFROM:+0000
END:STANDARD
END:VTIMEZONE
BEGIN:VEVENT
SUMMARY:Henrico Concert Band at Henrico Theatre
DESCRIPTION:Tour: Confirmed. Notes: </br>This performance is open at all.  Tickets do <b>not</b> need to be reserved in advance.  </br>Band member call time TBA. All are welcome
LOCATION:Henrico Theatre\, 305 E. Nine Mile Rd\, Highland Springs\, US
UID:20261214T190000Z-155-robobowl1@aol.com
URL:https://henricoconcertband.com/WPfiles
DTSTART;VALUE=DATE-TIME;TZID=GMT:20261214T190000Z
DTEND;VALUE=DATE-TIME;TZID=GMT:20261214T190000Z
DTSTAMP:20260420T013717Z
END:VEVENT
END:VCALENDAR