BEGIN:VCALENDAR
VERSION:2.0
PRODID:GIGPRESS 2.0 WORDPRESS PLUGIN
CALSCALE:GREGORIAN
X-WR-TIMEZONE:Etc/GMT
METHOD:PUBLISH
BEGIN:VTIMEZONE
TZID:GMT
BEGIN:STANDARD
DTSTART:20071028T010000
TZOFFSETTO:+0000
TZOFFSETFROM:+0000
END:STANDARD
END:VTIMEZONE
BEGIN:VEVENT
SUMMARY:Henrico Concert Band at Lakewood Manor
DESCRIPTION:Tour: Confirmed. Notes: </br>Attendance for this performance is limited to facility residents and their families.  </br>Performance time and band member call time have yet to be confirmed. 
LOCATION:Lakewood Manor\, 1900 Lauderdale Dr\, Richmond\, US
UID:20260703-154-robobowl1@aol.com
URL:https://henricoconcertband.com/WPfiles
DTSTART;VALUE=DATE;TZID=GMT:20260703
DTEND;VALUE=DATE;TZID=GMT:20260703
DTSTAMP:20260420T013419Z
END:VEVENT
END:VCALENDAR